BEGIN:VCALENDAR
VERSION:2.0
PRODID:-//Doran &amp; Ellis - ECPv6.11.2//NONSGML v1.0//EN
CALSCALE:GREGORIAN
METHOD:PUBLISH
X-WR-CALNAME:Doran &amp; Ellis
X-ORIGINAL-URL:https://doranenellis.be
X-WR-CALDESC:Evenementen voor Doran &amp; Ellis
REFRESH-INTERVAL;VALUE=DURATION:PT1H
X-Robots-Tag:noindex
X-PUBLISHED-TTL:PT1H
BEGIN:VTIMEZONE
TZID:UTC
BEGIN:STANDARD
TZOFFSETFROM:+0000
TZOFFSETTO:+0000
TZNAME:UTC
DTSTART:20250101T000000
END:STANDARD
END:VTIMEZONE
BEGIN:VEVENT
DTSTART;TZID=UTC:20260412T150000
DTEND;TZID=UTC:20260412T190000
DTSTAMP:20260420T231442
CREATED:20260406T202815Z
LAST-MODIFIED:20260406T202823Z
UID:913-1776006000-1776020400@doranenellis.be
SUMMARY:Eyckenboom Lier
DESCRIPTION:
URL:https://doranenellis.be/event/eyckenboom-lier/
LOCATION:Eyckenboom\, Grote Markt 36\, Lier\, 2500
END:VEVENT
BEGIN:VEVENT
DTSTART;TZID=UTC:20260402T110000
DTEND;TZID=UTC:20260402T170000
DTSTAMP:20260420T231442
CREATED:20250508T200643Z
LAST-MODIFIED:20260111T130508Z
UID:693-1775127600-1775149200@doranenellis.be
SUMMARY:De Kaasboerin
DESCRIPTION:
URL:https://doranenellis.be/event/de-kaasboerin/
LOCATION:De Kaasboerin\, Eerselseweg 99\, Mol-Postel\, 2400\, Belgium
CATEGORIES:Ellis
END:VEVENT
BEGIN:VEVENT
DTSTART;TZID=UTC:20260401T140000
DTEND;TZID=UTC:20260401T170000
DTSTAMP:20260420T231442
CREATED:20250508T200544Z
LAST-MODIFIED:20260111T130548Z
UID:690-1775052000-1775062800@doranenellis.be
SUMMARY:De Kaasboerin
DESCRIPTION:
URL:https://doranenellis.be/event/kaasboerin/
LOCATION:De Kaasboerin\, Eerselseweg 99\, Mol-Postel\, 2400\, Belgium
CATEGORIES:Ellis
END:VEVENT
BEGIN:VEVENT
DTSTART;TZID=UTC:20260305T140000
DTEND;TZID=UTC:20260305T170000
DTSTAMP:20260420T231442
CREATED:20260111T131925Z
LAST-MODIFIED:20260111T131925Z
UID:864-1772719200-1772730000@doranenellis.be
SUMMARY:Muzikantenstad Aarschot
DESCRIPTION:
URL:https://doranenellis.be/event/muzikantenstad-aarschot-3/
LOCATION:Muzikantenstad Aarschot\, Demervallei 14\, Aarschot\, 3200\, Belgium
CATEGORIES:Doran & Ellis
END:VEVENT
BEGIN:VEVENT
DTSTART;TZID=UTC:20260304T140000
DTEND;TZID=UTC:20260304T170000
DTSTAMP:20260420T231442
CREATED:20260111T131847Z
LAST-MODIFIED:20260111T131847Z
UID:862-1772632800-1772643600@doranenellis.be
SUMMARY:Muzikantenstad Aarschot
DESCRIPTION:
URL:https://doranenellis.be/event/muzikantenstad-aarschot-2/
LOCATION:Muzikantenstad Aarschot\, Demervallei 14\, Aarschot\, 3200\, Belgium
CATEGORIES:Doran & Ellis
END:VEVENT
BEGIN:VEVENT
DTSTART;TZID=UTC:20260303T140000
DTEND;TZID=UTC:20260303T170000
DTSTAMP:20260420T231442
CREATED:20260111T131804Z
LAST-MODIFIED:20260111T131804Z
UID:859-1772546400-1772557200@doranenellis.be
SUMMARY:Muzikantenstad Aarschot
DESCRIPTION:
URL:https://doranenellis.be/event/muzikantenstad-aarschot/
LOCATION:Muzikantenstad Aarschot\, Demervallei 14\, Aarschot\, 3200\, Belgium
CATEGORIES:Doran & Ellis
END:VEVENT
BEGIN:VEVENT
DTSTART;TZID=UTC:20260226T153000
DTEND;TZID=UTC:20260226T170000
DTSTAMP:20260420T231442
CREATED:20260111T131304Z
LAST-MODIFIED:20260111T131304Z
UID:857-1772119800-1772125200@doranenellis.be
SUMMARY:Puurs
DESCRIPTION:Info volgt
URL:https://doranenellis.be/event/puurs/
CATEGORIES:Doran
END:VEVENT
BEGIN:VEVENT
DTSTART;TZID=UTC:20260215T120000
DTEND;TZID=UTC:20260215T170000
DTSTAMP:20260420T231442
CREATED:20260111T125058Z
LAST-MODIFIED:20260111T125058Z
UID:830-1771156800-1771174800@doranenellis.be
SUMMARY:Vier Valentijn met Doran & Ellis in de Marnixhoeve te Lier
DESCRIPTION:
URL:https://doranenellis.be/event/vier-valentijn-met-doran-ellis-in-de-marnixhoeve-te-lier/
CATEGORIES:Doran & Ellis,Your Hitmix
END:VEVENT
BEGIN:VEVENT
DTSTART;TZID=UTC:20260213T120000
DTEND;TZID=UTC:20260213T170000
DTSTAMP:20260420T231442
CREATED:20260111T130919Z
LAST-MODIFIED:20260111T131118Z
UID:852-1770984000-1771002000@doranenellis.be
SUMMARY:Merksem DC De Zeelbaan
DESCRIPTION:Valentijnfeest Zorgbedrijf\, met DJ Danaldi en Doran
URL:https://doranenellis.be/event/merksem-dc-de-zeelbaan/
LOCATION:DC Zeelbaan\, elfnovemberstraat 33\, Merksem\, 2170
CATEGORIES:Doran
END:VEVENT
BEGIN:VEVENT
DTSTART;TZID=UTC:20251228T150000
DTEND;TZID=UTC:20251228T170000
DTSTAMP:20260420T231442
CREATED:20250508T201426Z
LAST-MODIFIED:20251001T180428Z
UID:707-1766934000-1766941200@doranenellis.be
SUMMARY:Eindejaarsconcert
DESCRIPTION:Tickets te verkrijgen via deze link
URL:https://doranenellis.be/event/eindejaarsconcert/
LOCATION:CC Vredeberg\, vredebergstraat 12/14\, Lier\, 2500
CATEGORIES:Doran & Ellis
END:VEVENT
BEGIN:VEVENT
DTSTART;TZID=UTC:20251214T170000
DTEND;TZID=UTC:20251214T170000
DTSTAMP:20260420T231442
CREATED:20250509T130124Z
LAST-MODIFIED:20250509T130129Z
UID:722-1765731600-1765731600@doranenellis.be
SUMMARY:Zaal Benedictus Nieuw Namen NL
DESCRIPTION:
URL:https://doranenellis.be/event/zaal-benedictus-nieuw-namen-nl/
LOCATION:Zaal Benedictus\, Hulsterloostraat 82\, Nieuw Namen\, 4568\, Netherlands
CATEGORIES:Doran
END:VEVENT
BEGIN:VEVENT
DTSTART;TZID=UTC:20251213T200000
DTEND;TZID=UTC:20251213T200000
DTSTAMP:20260420T231442
CREATED:20250509T125602Z
LAST-MODIFIED:20250509T125612Z
UID:716-1765656000-1765656000@doranenellis.be
SUMMARY:Doornik
DESCRIPTION:info volgt snel
URL:https://doranenellis.be/event/doornik-4/
CATEGORIES:Doran
END:VEVENT
BEGIN:VEVENT
DTSTART;TZID=UTC:20251127T140000
DTEND;TZID=UTC:20251127T140000
DTSTAMP:20260420T231442
CREATED:20250504T110223Z
LAST-MODIFIED:20250508T201508Z
UID:669-1764252000-1764252000@doranenellis.be
SUMMARY:MS Izegem
DESCRIPTION:
URL:https://doranenellis.be/event/ms-izegem-2/
LOCATION:Cultuurhuis De Leest\, Sint-Jorisstraat 62\, Izegem\, 8870\, Belgium
CATEGORIES:Doran & Ellis
END:VEVENT
BEGIN:VEVENT
DTSTART;TZID=UTC:20251126T140000
DTEND;TZID=UTC:20251126T140000
DTSTAMP:20260420T231442
CREATED:20250504T110147Z
LAST-MODIFIED:20250508T201523Z
UID:666-1764165600-1764165600@doranenellis.be
SUMMARY:MS Izegem
DESCRIPTION:
URL:https://doranenellis.be/event/ms-izegem/
LOCATION:Cultuurhuis De Leest\, Sint-Jorisstraat 62\, Izegem\, 8870\, Belgium
CATEGORIES:Doran & Ellis
END:VEVENT
BEGIN:VEVENT
DTSTART;TZID=UTC:20251117T140000
DTEND;TZID=UTC:20251117T140000
DTSTAMP:20260420T231442
CREATED:20250504T110009Z
LAST-MODIFIED:20250508T201529Z
UID:664-1763388000-1763388000@doranenellis.be
SUMMARY:MS Stekene
DESCRIPTION:
URL:https://doranenellis.be/event/ms-stekene/
LOCATION:Sporthal Stekene\, Nieuwstraat\, Stekene\, 9190\, Belgium
CATEGORIES:Doran & Ellis
END:VEVENT
BEGIN:VEVENT
DTSTART;TZID=UTC:20251111T133000
DTEND;TZID=UTC:20251111T133000
DTSTAMP:20260420T231442
CREATED:20250504T105759Z
LAST-MODIFIED:20250504T105759Z
UID:657-1762867800-1762867800@doranenellis.be
SUMMARY:MS Mol
DESCRIPTION:krismangelschots@hotmail.com.
URL:https://doranenellis.be/event/ms-mol/
LOCATION:Tech. School Kruisven\, Kruisven 25\, Mol\, 2400\, Belgium
CATEGORIES:Doran & Ellis
END:VEVENT
BEGIN:VEVENT
DTSTART;TZID=UTC:20251110T140000
DTEND;TZID=UTC:20251110T140000
DTSTAMP:20260420T231442
CREATED:20250504T105635Z
LAST-MODIFIED:20250504T105827Z
UID:654-1762783200-1762783200@doranenellis.be
SUMMARY:MS Diest
DESCRIPTION:Info: Marc.florquin@telenet.be 0475 68 05 40
URL:https://doranenellis.be/event/ms-diest/
LOCATION:Zaal Den Amer\, Nijverheidslaan 24\, Diest\, Belgium
CATEGORIES:Doran & Ellis
END:VEVENT
BEGIN:VEVENT
DTSTART;TZID=UTC:20251106T143000
DTEND;TZID=UTC:20251106T143000
DTSTAMP:20260420T231442
CREATED:20250504T105535Z
LAST-MODIFIED:20250504T105846Z
UID:652-1762439400-1762439400@doranenellis.be
SUMMARY:MS Nijlen
DESCRIPTION:Info@vdmprodukties.be of 0475 78 63 98 voor alle info.
URL:https://doranenellis.be/event/ms-nijlen-2/
LOCATION:Gildenzaal\, Gemeentestraat 24\, Nijlen\, 2560\, Belgium
CATEGORIES:Doran & Ellis
END:VEVENT
BEGIN:VEVENT
DTSTART;TZID=UTC:20251105T143000
DTEND;TZID=UTC:20251105T143000
DTSTAMP:20260420T231442
CREATED:20250504T105444Z
LAST-MODIFIED:20250504T105904Z
UID:649-1762353000-1762353000@doranenellis.be
SUMMARY:MS Nijlen
DESCRIPTION:Info@vdmprodukties.be of 0475 78 63 98 voor alle info.
URL:https://doranenellis.be/event/ms-nijlen/
LOCATION:Gildenzaal\, Gemeentestraat 24\, Nijlen\, 2560\, Belgium
CATEGORIES:Doran & Ellis
END:VEVENT
BEGIN:VEVENT
DTSTART;TZID=UTC:20251019T200000
DTEND;TZID=UTC:20251019T200000
DTSTAMP:20260420T231442
CREATED:20250504T105319Z
LAST-MODIFIED:20250509T125511Z
UID:646-1760904000-1760904000@doranenellis.be
SUMMARY:De Zandfluiter
DESCRIPTION:Uur volgt later
URL:https://doranenellis.be/event/optreden-cafe-de-zandfluiter/
LOCATION:Cafe De Zandfluiter\, Tulpenlaan 1\, Lille\, 2275\, Belgium
CATEGORIES:Doran
END:VEVENT
BEGIN:VEVENT
DTSTART;TZID=UTC:20251018T200000
DTEND;TZID=UTC:20251018T200000
DTSTAMP:20260420T231442
CREATED:20250508T201210Z
LAST-MODIFIED:20250508T201455Z
UID:703-1760817600-1760817600@doranenellis.be
SUMMARY:Doornik
DESCRIPTION:Info volgt snel
URL:https://doranenellis.be/event/doornik-2/
CATEGORIES:Doran
END:VEVENT
BEGIN:VEVENT
DTSTART;TZID=UTC:20251016T200000
DTEND;TZID=UTC:20251016T200000
DTSTAMP:20260420T231442
CREATED:20250504T105015Z
LAST-MODIFIED:20250504T105034Z
UID:640-1760644800-1760644800@doranenellis.be
SUMMARY:Optreden Londerzeel
DESCRIPTION:Correct uur volgt later.
URL:https://doranenellis.be/event/optreden-londerzeel/
CATEGORIES:Doran
END:VEVENT
BEGIN:VEVENT
DTSTART;TZID=UTC:20251002T000000
DTEND;TZID=UTC:20251002T000000
DTSTAMP:20260420T231442
CREATED:20250509T125447Z
LAST-MODIFIED:20250509T125447Z
UID:713-1759363200-1759363200@doranenellis.be
SUMMARY:Eropal Lauwe
DESCRIPTION:
URL:https://doranenellis.be/event/eropal-lauwe/
LOCATION:Etropal Lauwe\, Larstraat 198\, Menen\, 8930\, Belgium
CATEGORIES:Doran & Ellis
END:VEVENT
BEGIN:VEVENT
DTSTART;TZID=UTC:20250925T140000
DTEND;TZID=UTC:20250925T140000
DTSTAMP:20260420T231442
CREATED:20250504T104939Z
LAST-MODIFIED:20250504T104939Z
UID:638-1758808800-1758808800@doranenellis.be
SUMMARY:Etropal Lauwe
DESCRIPTION:
URL:https://doranenellis.be/event/etropal-lauwe-7/
LOCATION:Etropal Lauwe\, Larstraat 198\, Menen\, 8930\, Belgium
CATEGORIES:Doran & Ellis
END:VEVENT
BEGIN:VEVENT
DTSTART;TZID=UTC:20250924T140000
DTEND;TZID=UTC:20250924T140000
DTSTAMP:20260420T231442
CREATED:20250504T104916Z
LAST-MODIFIED:20250504T104916Z
UID:636-1758722400-1758722400@doranenellis.be
SUMMARY:Etropal Lauwe
DESCRIPTION:
URL:https://doranenellis.be/event/etropal-lauwe-6/
LOCATION:Etropal Lauwe\, Larstraat 198\, Menen\, 8930\, Belgium
CATEGORIES:Doran & Ellis
END:VEVENT
BEGIN:VEVENT
DTSTART;TZID=UTC:20250923T140000
DTEND;TZID=UTC:20250923T140000
DTSTAMP:20260420T231442
CREATED:20250504T104815Z
LAST-MODIFIED:20250504T104850Z
UID:634-1758636000-1758636000@doranenellis.be
SUMMARY:Etropal Lauwe
DESCRIPTION:
URL:https://doranenellis.be/event/etropal-lauwe-5/
LOCATION:Etropal Lauwe\, Larstraat 198\, Menen\, 8930\, Belgium
CATEGORIES:Doran & Ellis
END:VEVENT
BEGIN:VEVENT
DTSTART;TZID=UTC:20250920T140000
DTEND;TZID=UTC:20250920T170000
DTSTAMP:20260420T231442
CREATED:20250529T153325Z
LAST-MODIFIED:20250529T153325Z
UID:772-1758376800-1758387600@doranenellis.be
SUMMARY:Doornik
DESCRIPTION:Info volgt snel
URL:https://doranenellis.be/event/doornik-5/
CATEGORIES:Doran
END:VEVENT
BEGIN:VEVENT
DTSTART;TZID=UTC:20250918T140000
DTEND;TZID=UTC:20250918T140000
DTSTAMP:20260420T231442
CREATED:20250504T104749Z
LAST-MODIFIED:20250504T104749Z
UID:632-1758204000-1758204000@doranenellis.be
SUMMARY:Etropal Lauwe
DESCRIPTION:
URL:https://doranenellis.be/event/etropal-lauwe-4/
LOCATION:Etropal Lauwe\, Larstraat 198\, Menen\, 8930\, Belgium
CATEGORIES:Doran & Ellis
END:VEVENT
BEGIN:VEVENT
DTSTART;TZID=UTC:20250917T140000
DTEND;TZID=UTC:20250917T140000
DTSTAMP:20260420T231442
CREATED:20250504T104716Z
LAST-MODIFIED:20250504T104716Z
UID:630-1758117600-1758117600@doranenellis.be
SUMMARY:Etropal Lauwe
DESCRIPTION:
URL:https://doranenellis.be/event/etropal-lauwe-3/
LOCATION:Etropal Lauwe\, Larstraat 198\, Menen\, 8930\, Belgium
CATEGORIES:Doran & Ellis
END:VEVENT
BEGIN:VEVENT
DTSTART;TZID=UTC:20250916T140000
DTEND;TZID=UTC:20250916T140000
DTSTAMP:20260420T231442
CREATED:20250504T104550Z
LAST-MODIFIED:20250504T104638Z
UID:627-1758031200-1758031200@doranenellis.be
SUMMARY:Etropal Lauwe
DESCRIPTION:
URL:https://doranenellis.be/event/etropal-lauwe-2/
LOCATION:Etropal Lauwe\, Larstraat 198\, Menen\, 8930\, Belgium
CATEGORIES:Doran & Ellis
END:VEVENT
END:VCALENDAR