BEGIN:VCALENDAR
VERSION:2.0
PRODID:-//Doran &amp; Ellis - ECPv6.11.2//NONSGML v1.0//EN
CALSCALE:GREGORIAN
METHOD:PUBLISH
X-WR-CALNAME:Doran &amp; Ellis
X-ORIGINAL-URL:https://doranenellis.be
X-WR-CALDESC:Evenementen voor Doran &amp; Ellis
REFRESH-INTERVAL;VALUE=DURATION:PT1H
X-Robots-Tag:noindex
X-PUBLISHED-TTL:PT1H
BEGIN:VTIMEZONE
TZID:UTC
BEGIN:STANDARD
TZOFFSETFROM:+0000
TZOFFSETTO:+0000
TZNAME:UTC
DTSTART:20260101T000000
END:STANDARD
END:VTIMEZONE
BEGIN:VEVENT
DTSTART;TZID=UTC:20260426T140000
DTEND;TZID=UTC:20260426T170000
DTSTAMP:20260420T192526
CREATED:20260111T132135Z
LAST-MODIFIED:20260111T132135Z
UID:866-1777212000-1777222800@doranenellis.be
SUMMARY:Muzikantenstad Stabroek
DESCRIPTION:
URL:https://doranenellis.be/event/muzikantenstad-stabroek/
CATEGORIES:Doran & Ellis
END:VEVENT
BEGIN:VEVENT
DTSTART;TZID=UTC:20260505T140000
DTEND;TZID=UTC:20260505T170000
DTSTAMP:20260420T192526
CREATED:20260406T203241Z
LAST-MODIFIED:20260406T203241Z
UID:917-1777989600-1778000400@doranenellis.be
SUMMARY:Event centrum Staf Versluis
DESCRIPTION:Seniorennamiddag
URL:https://doranenellis.be/event/event-centrum-staf-versluis/
LOCATION:Event centrum Staf Versluis\, Kapelstraat 76\, Bredene\, West-Vlaanderen\, 8450
CATEGORIES:Doran & Ellis
END:VEVENT
BEGIN:VEVENT
DTSTART;TZID=UTC:20260529T220000
DTEND;TZID=UTC:20260529T230000
DTSTAMP:20260420T192526
CREATED:20260111T132626Z
LAST-MODIFIED:20260406T201520Z
UID:870-1780092000-1780095600@doranenellis.be
SUMMARY:Villa Fiësta te Lille
DESCRIPTION:
URL:https://doranenellis.be/event/villa-fiesta-te-lille/
LOCATION:Villa Fiesta Lille\, Wechelsebaan 194\,\, Lille\, 2275\, Belgium
CATEGORIES:Doran
END:VEVENT
BEGIN:VEVENT
DTSTART;TZID=UTC:20260611T140000
DTEND;TZID=UTC:20260611T170000
DTSTAMP:20260420T192526
CREATED:20250508T200839Z
LAST-MODIFIED:20260111T125706Z
UID:697-1781186400-1781197200@doranenellis.be
SUMMARY:De Kaasboerin
DESCRIPTION:
URL:https://doranenellis.be/event/de-kaasboerin-3/
LOCATION:De Kaasboerin\, Eerselseweg 99\, Mol-Postel\, 2400\, Belgium
CATEGORIES:Doran
END:VEVENT
BEGIN:VEVENT
DTSTART;TZID=UTC:20260621T130000
DTEND;TZID=UTC:20260621T180000
DTSTAMP:20260420T192526
CREATED:20260406T203545Z
LAST-MODIFIED:20260406T203545Z
UID:920-1782046800-1782064800@doranenellis.be
SUMMARY:Fandag
DESCRIPTION:
URL:https://doranenellis.be/event/fandag/
LOCATION:Parochiezaal Heilig Hart\, Eeuwfeestlaan 60\, Lier\, 2500\, Belgium
CATEGORIES:Doran & Ellis
END:VEVENT
BEGIN:VEVENT
DTSTART;TZID=UTC:20260627T170000
DTEND;TZID=UTC:20260627T180000
DTSTAMP:20260420T192526
CREATED:20260406T203918Z
LAST-MODIFIED:20260406T203918Z
UID:923-1782579600-1782583200@doranenellis.be
SUMMARY:Niel Biezerdkermis Tent Café 't Pleintje
DESCRIPTION:
URL:https://doranenellis.be/event/niel-biezerdkermis-tent-cafe-t-pleintje/
LOCATION:Tent Café ’t Pleintje\, Eduard Claessenslaan 29\, Niel\, 2845
CATEGORIES:Doran
END:VEVENT
BEGIN:VEVENT
DTSTART;TZID=UTC:20260628T140000
DTEND;TZID=UTC:20260628T180000
DTSTAMP:20260420T192526
CREATED:20260406T204219Z
LAST-MODIFIED:20260406T204219Z
UID:926-1782655200-1782669600@doranenellis.be
SUMMARY:Grensfeesten Putte-Kapellen
DESCRIPTION:
URL:https://doranenellis.be/event/grensfeesten-putte-kapellen/
LOCATION:Podium aan de kerk\, Ertbrandstraat\, Putte-Kapellen\, 2950
CATEGORIES:Doran & Ellis
END:VEVENT
BEGIN:VEVENT
DTSTART;TZID=UTC:20260708T200000
DTEND;TZID=UTC:20260708T220000
DTSTAMP:20260420T192526
CREATED:20260111T132936Z
LAST-MODIFIED:20260111T132936Z
UID:874-1783540800-1783548000@doranenellis.be
SUMMARY:Kneuterrock te Pulle
DESCRIPTION:
URL:https://doranenellis.be/event/kneuterrock-te-pulle/
LOCATION:Kneuterrock\, Pastoriestraat\, Pulle\, 2243\, Belgium
CATEGORIES:Doran & Ellis,Your Hitmix
END:VEVENT
BEGIN:VEVENT
DTSTART;TZID=UTC:20260709T213000
DTEND;TZID=UTC:20260709T223000
DTSTAMP:20260420T192526
CREATED:20260406T204549Z
LAST-MODIFIED:20260406T204549Z
UID:929-1783632600-1783636200@doranenellis.be
SUMMARY:Blankenberge Floreal
DESCRIPTION:
URL:https://doranenellis.be/event/blankenberge-floreal/
LOCATION:Floreal Blankenberge\, Koning Albert 1 laan 59\, Blankenberge\, 8370
END:VEVENT
BEGIN:VEVENT
DTSTART;TZID=UTC:20260816T110000
DTEND;TZID=UTC:20260816T170000
DTSTAMP:20260420T192526
CREATED:20260111T125954Z
LAST-MODIFIED:20260111T125954Z
UID:840-1786878000-1786899600@doranenellis.be
SUMMARY:De Kaasboerin
DESCRIPTION:
URL:https://doranenellis.be/event/de-kaasboerin-5/
LOCATION:De Kaasboerin\, Eerselseweg 99\, Mol-Postel\, 2400\, Belgium
CATEGORIES:Doran
END:VEVENT
BEGIN:VEVENT
DTSTART;TZID=UTC:20260912T220000
DTEND;TZID=UTC:20260912T230000
DTSTAMP:20260420T192526
CREATED:20260406T205109Z
LAST-MODIFIED:20260406T205109Z
UID:932-1789250400-1789254000@doranenellis.be
SUMMARY:Zaal Benedictus Nieuw Namen NL
DESCRIPTION:Live met de Prins Junior Band \n 
URL:https://doranenellis.be/event/zaal-benedictus-nieuw-namen-nl-2/
LOCATION:Zaal Benedictus\, Hulsterloostraat 82\, Nieuw Namen\, 4568\, Netherlands
CATEGORIES:Doran
END:VEVENT
BEGIN:VEVENT
DTSTART;TZID=UTC:20260926T140000
DTEND;TZID=UTC:20260926T170000
DTSTAMP:20260420T192526
CREATED:20250508T200743Z
LAST-MODIFIED:20260111T130310Z
UID:695-1790431200-1790442000@doranenellis.be
SUMMARY:De Kaasboerin
DESCRIPTION:
URL:https://doranenellis.be/event/de-kaasboerin-2/
LOCATION:De Kaasboerin\, Eerselseweg 99\, Mol-Postel\, 2400\, Belgium
CATEGORIES:Ellis
END:VEVENT
BEGIN:VEVENT
DTSTART;TZID=UTC:20261017T200000
DTEND;TZID=UTC:20261017T220000
DTSTAMP:20260420T192526
CREATED:20260111T133304Z
LAST-MODIFIED:20260111T133304Z
UID:876-1792267200-1792274400@doranenellis.be
SUMMARY:Najaarsconcert\, Reetse concertband
DESCRIPTION:@ Gildenhuis te Reet
URL:https://doranenellis.be/event/najaarsconcert-reetse-concertband/
LOCATION:Reetse concertband\, Eikenstraat 13\, Reet\, Belgium
END:VEVENT
BEGIN:VEVENT
DTSTART;TZID=UTC:20261024T110000
DTEND;TZID=UTC:20261024T170000
DTSTAMP:20260420T192526
CREATED:20250508T200930Z
LAST-MODIFIED:20260111T130142Z
UID:699-1792839600-1792861200@doranenellis.be
SUMMARY:De Kaasboerin
DESCRIPTION:
URL:https://doranenellis.be/event/de-kaasboerin-4/
LOCATION:De Kaasboerin\, Eerselseweg 99\, Mol-Postel\, 2400\, Belgium
CATEGORIES:Ellis
END:VEVENT
BEGIN:VEVENT
DTSTART;TZID=UTC:20261031T080000
DTEND;TZID=UTC:20261107T170000
DTSTAMP:20260420T192526
CREATED:20260406T201348Z
LAST-MODIFIED:20260406T201348Z
UID:901-1793433600-1794070800@doranenellis.be
SUMMARY:Feestweek in Lloret De Mar Spanje
DESCRIPTION:
URL:https://doranenellis.be/event/feestweek-in-lloret-de-mar-spanje/
LOCATION:Lloret de mar Spanje\, Spain
CATEGORIES:Doran & Ellis
END:VEVENT
BEGIN:VEVENT
DTSTART;TZID=UTC:20261114T170000
DTEND;TZID=UTC:20261114T180000
DTSTAMP:20260420T192526
CREATED:20260111T133351Z
LAST-MODIFIED:20260111T133533Z
UID:879-1794675600-1794679200@doranenellis.be
SUMMARY:Rotselaar
DESCRIPTION:Info volgt
URL:https://doranenellis.be/event/rotselaar/
CATEGORIES:Doran & Ellis
END:VEVENT
BEGIN:VEVENT
DTSTART;TZID=UTC:20261121T200000
DTEND;TZID=UTC:20261121T220000
DTSTAMP:20260420T192526
CREATED:20260406T200156Z
LAST-MODIFIED:20260406T202019Z
UID:899-1795291200-1795298400@doranenellis.be
SUMMARY:Big Band Nijlen Eindejaarsconcert
DESCRIPTION:info@bigband-nijlen.be\n\n\n\n\n\n\n\n\n\n\n\n\n\n\n\n\n\n\n\n\n\n\n\n\n\n\n\n\n\n\n\n21 november 2026 om 20:00 – Gildenzaal – CROONERS Concert met Guest DORAN
URL:https://doranenellis.be/event/big-band-nijlen-eindejaarsconcert/
LOCATION:Gildenzaal\, Gemeentestraat 24\, Nijlen\, 2560\, Belgium
CATEGORIES:Doran
END:VEVENT
BEGIN:VEVENT
DTSTART;TZID=UTC:20261218T203000
DTEND;TZID=UTC:20261218T213000
DTSTAMP:20260420T192526
CREATED:20260111T132756Z
LAST-MODIFIED:20260111T132756Z
UID:872-1797625800-1797629400@doranenellis.be
SUMMARY:Villa Fiësta te Lille
DESCRIPTION:
URL:https://doranenellis.be/event/villa-fiesta-te-lille-2/
LOCATION:Villa Fiesta Lille\, Wechelsebaan 194\,\, Lille\, 2275\, Belgium
END:VEVENT
END:VCALENDAR